Workbook

Sheet Instrucciones de uso
A1: Guía de Uso de la Herramienta Nutricional Paso 1: Identificá el grupo de alimentos La planilla está organizada por grupos: Lácteos, Huevo, Carnes, Pescados, Vegetales A/B/C, Frutas A/B, Frutos secos, Legumbres, Cereales, Panificados, Grasas, Azúcares, Carnes procesadas e Infusiones. Paso 2: Ingresá la cantidad en gramos Buscá el alimento dentro de su grupo y escribí la cantidad consumida (en gramos) en la celda de la columna "Cantidad (g)". Los valores de nutrientes se calcularán automáticamente. Paso 3: Verificá si el grupo tiene suma parcial o no Algunos grupos tienen fila de SUMA TOTAL del grupo (ej: Carnes, Pescados, Vegetales A). En esos casos, podés ingresar más de un alimento del mismo grupo y la fila suma automáticamente. En grupos sin suma parcial (ej: Lácteos, Grasas animales, Azúcares), cada alimento se registra de forma individual. Paso 4: Completá todos los grupos del plan alimentario Avanzá grupo por grupo ingresando las cantidades de cada alimento seleccionado. Podés dejar en blanco (o en 0) los alimentos que no se consumen. Paso 5: Verificá la fila de suma total al pie de cada grupo Donde corresponde, la fila "SUMA TOTAL" del grupo se actualiza automáticamente con el aporte acumulado de HC, proteínas, grasas, VET, fibra, hierro, calcio, zinc, folato y sodio. Paso 6: Revisá el total general al final de la planilla La fila "SUMA TOTAL DE ALIMENTOS" integra todos los grupos e informa el aporte global del plan en cada nutriente calculado. Es el resultado final del análisis. A tener en cuenta! Ingresá solo cantidades numéricas en la columna "Cantidad (g)"; no escribas texto ni unidades. Para alimentos con distintas preparaciones (ej: batata frita vs. al vapor), la composición nutricional puede variar: usá el alimento que mejor lo represente. Los valores se expresan por 100 g de alimento crudo o cocido según corresponda.

Sheet Planilla de cálculo nutricional
A2: TABLA DE COMPOSICIÓN QUÍMICA DE LOS ALIMENTOS: PRIMERAS ETAPAS DEL CICLO VITAL
A3: *Este recurso ha sido adaptado del Software NUTRIO elaborado por el "Grupo de Epidemiología Ambiental del Cáncer en Córdoba", a los fines de ser utilizada como herramienta pedagógica por parte de estudiantes de la Catedra Nutrición en la primera etapa del Ciclo Vital de la Licenciatura en Nutrición (FCM-UNC).
C5: En esta celda vas a ingresar la cantidad en gramos del alimento para el calculo de nutrientes
A9: ALIMENTOS
A10: LÁCTEOS | B10: Cantidad (g) | C10: HC (g) | D10: PROTEÍNAS (g) | E10: GRASAS TOTALES (g) | F10: GRASAS SATURADAS | G10: VET (kcal) | H10: FIBR T(g) | I10: HIE (mg) | J10: CAL (mg) | K10: ZINC (ug) | L10: A FÓLICO (ug) | M10: SODIO (mg)
A11: LECHE PARC DESCREMADA FLUIDA | C11: =($B11*'Composición'!B175)/100 -> 0 | D11: =($B11*'Composición'!C175)/100 -> 0 | E11: =($B11*'Composición'!D175)/100 -> 0 | F11: =($B11*'Composición'!E175)/100 -> 0 | G11: =($B11*'Composición'!F175)/100 -> 0 | H11: =($B11*'Composición'!G175)/100 -> 0 | I11: =($B11*'Composición'!H175)/100 -> 0 | J11: =($B11*'Composición'!I175)/100 -> 0 | ... M11: =($B11*'Composición'!L175)/100 -> 0
A12: LECHE ENTERA FLUIDA | C12: =($B12*'Composición'!B176)/100 -> 0 | D12: =($B12*'Composición'!C176)/100 -> 0 | E12: =($B12*'Composición'!D176)/100 -> 0 | F12: =($B12*'Composición'!E176)/100 -> 0 | G12: =($B12*'Composición'!F176)/100 -> 0 | H12: =($B12*'Composición'!G176)/100 -> 0 | I12: =($B12*'Composición'!H176)/100 -> 0 | J12: =($B12*'Composición'!I176)/100 -> 0 | ... M12: =($B12*'Composición'!L176)/100 -> 0
A13: QUESO DURO | C13: =($B13*'Composición'!B279)/100 -> 0 | D13: =($B13*'Composición'!C279)/100 -> 0 | E13: =($B13*'Composición'!D279)/100 -> 0 | F13: =($B13*'Composición'!E279)/100 -> 0 | G13: =($B13*'Composición'!F279)/100 -> 0 | H13: =($B13*'Composición'!G279)/100 -> 0 | I13: =($B13*'Composición'!H279)/100 -> 0 | J13: =($B13*'Composición'!I279)/100 -> 0 | ... M13: =($B13*'Composición'!L279)/100 -> 0
A14: QUESO SEMIDURO | C14: =($B14*'Composición'!B282)/100 -> 0 | D14: =($B14*'Composición'!C282)/100 -> 0 | E14: =($B14*'Composición'!D282)/100 -> 0 | F14: =($B14*'Composición'!E282)/100 -> 0 | G14: =($B14*'Composición'!F282)/100 -> 0 | H14: =($B14*'Composición'!G282)/100 -> 0 | I14: =($B14*'Composición'!H282)/100 -> 0 | J14: =($B14*'Composición'!I282)/100 -> 0 | ... M14: =($B14*'Composición'!L282)/100 -> 0
A15: QUESO BLANDO | C15: =($B15*'Composición'!B280)/100 -> 0 | D15: =($B15*'Composición'!C280)/100 -> 0 | E15: =($B15*'Composición'!D280)/100 -> 0 | F15: =($B15*'Composición'!E280)/100 -> 0 | G15: =($B15*'Composición'!F280)/100 -> 0 | H15: =($B15*'Composición'!G280)/100 -> 0 | I15: =($B15*'Composición'!H280)/100 -> 0 | J15: =($B15*'Composición'!I280)/100 -> 0 | ... M15: =($B15*'Composición'!L280)/100 -> 0
A16: YOGUR ENTERO | C16: =($B16*'Composición'!B330)/100 -> 0 | D16: =($B16*'Composición'!C330)/100 -> 0 | E16: =($B16*'Composición'!D330)/100 -> 0 | F16: =($B16*'Composición'!E330)/100 -> 0 | G16: =($B16*'Composición'!F330)/100 -> 0 | H16: =($B16*'Composición'!G330)/100 -> 0 | I16: =($B16*'Composición'!H330)/100 -> 0 | J16: =($B16*'Composición'!I330)/100 -> 0 | ... M16: =($B16*'Composición'!L330)/100 -> 0
A17: YOGUR DESCREMADO | C17: =($B17*'Composición'!B331)/100 -> 0 | D17: =($B17*'Composición'!C331)/100 -> 0 | E17: =($B17*'Composición'!D331)/100 -> 0 | F17: =($B17*'Composición'!E331)/100 -> 0 | G17: =($B17*'Composición'!F331)/100 -> 0 | H17: =($B17*'Composición'!G331)/100 -> 0 | I17: =($B17*'Composición'!H331)/100 -> 0 | J17: =($B17*'Composición'!I331)/100 -> 0 | ... M17: =($B17*'Composición'!L331)/100 -> 0
A18: RICOTA | C18: =($B18*'Composición'!B292)/100 -> 0 | D18: =($B18*'Composición'!C292)/100 -> 0 | E18: =($B18*'Composición'!D292)/100 -> 0 | F18: =($B18*'Composición'!E292)/100 -> 0 | G18: =($B18*'Composición'!F292)/100 -> 0 | H18: =($B18*'Composición'!G292)/100 -> 0 | I18: =($B18*'Composición'!H292)/100 -> 0 | J18: =($B18*'Composición'!I292)/100 -> 0 | ... M18: =($B18*'Composición'!L292)/100 -> 0
A19: HUEVO | B19: Cantidad (g) | C19: HC (g) | D19: PROTEÍNAS (g) | E19: GRASAS TOTALES (g) | F19: GRASAS SATURADAS | G19: VET (kcal) | H19: FIBR T(g) | I19: HIE (mg) | J19: CAL (mg) | K19: ZINC (ug) | L19: A FÓLICO (ug) | M19: SODIO (mg)
A20: HUEVO (CLARA) | C20: =($B20*'Composición'!B167)/100 -> 0 | D20: =($B20*'Composición'!C167)/100 -> 0 | E20: =($B20*'Composición'!D167)/100 -> 0 | F20: =($B20*'Composición'!E167)/100 -> 0 | G20: =($B20*'Composición'!F167)/100 -> 0 | H20: =($B20*'Composición'!G167)/100 -> 0 | I20: =($B20*'Composición'!H167)/100 -> 0 | J20: =($B20*'Composición'!I167)/100 -> 0 | ... M20: =($B20*'Composición'!L167)/100 -> 0
A21: HUEVO (YEMA) | C21: =($B21*'Composición'!B168)/100 -> 0 | D21: =($B21*'Composición'!C168)/100 -> 0 | E21: =($B21*'Composición'!D168)/100 -> 0 | F21: =($B21*'Composición'!E168)/100 -> 0 | G21: =($B21*'Composición'!F168)/100 -> 0 | H21: =($B21*'Composición'!G168)/100 -> 0 | I21: =($B21*'Composición'!H168)/100 -> 0 | J21: =($B21*'Composición'!I168)/100 -> 0 | ... M21: =($B21*'Composición'!L168)/100 -> 0
A22: HUEVO ENTERO | C22: =($B22*'Composición'!B169)/100 -> 0 | D22: =($B22*'Composición'!C169)/100 -> 0 | E22: =($B22*'Composición'!D169)/100 -> 0 | F22: =($B22*'Composición'!E169)/100 -> 0 | G22: =($B22*'Composición'!F169)/100 -> 0 | H22: =($B22*'Composición'!G169)/100 -> 0 | I22: =($B22*'Composición'!H169)/100 -> 0 | J22: =($B22*'Composición'!I169)/100 -> 0 | ... M22: =($B22*'Composición'!L169)/100 -> 0
A23: CARNES | B23: Cantidad (g) | C23: HC (g) | D23: PROTEÍNAS (g) | E23: GRASAS TOTALES (g) | F23: GRASAS SATURADAS | G23: VET (kcal) | H23: FIBR T(g) | I23: HIE (mg) | J23: CAL (mg) | K23: ZINC (ug) | L23: A FÓLICO (ug) | M23: SODIO (mg)
A24: CARNE DE CERDO | C24: =($B24*'Composición'!B85)/100 -> 0 | D24: =($B24*'Composición'!C85)/100 -> 0 | E24: =($B24*'Composición'!D85)/100 -> 0 | F24: =($B24*'Composición'!E85)/100 -> 0 | G24: =($B24*'Composición'!F85)/100 -> 0 | H24: =($B24*'Composición'!G85)/100 -> 0 | I24: =($B24*'Composición'!H85)/100 -> 0 | J24: =($B24*'Composición'!I85)/100 -> 0 | ... M24: =($B24*'Composición'!L85)/100 -> 0
A25: CARNE DE POLLO sin piel | C25: =($B25*'Composición'!B267)/100 -> 0 | D25: =($B25*'Composición'!C267)/100 -> 0 | E25: =($B25*'Composición'!D267)/100 -> 0 | F25: =($B25*'Composición'!E267)/100 -> 0 | G25: =($B25*'Composición'!F267)/100 -> 0 | H25: =($B25*'Composición'!G267)/100 -> 0 | I25: =($B25*'Composición'!H267)/100 -> 0 | J25: =($B25*'Composición'!I267)/100 -> 0 | ... M25: =($B25*'Composición'!L267)/100 -> 0
A26: CARNE DE POLLO con piel | C26: =($B26*'Composición'!B257)/100 -> 0 | D26: =($B26*'Composición'!C257)/100 -> 0 | E26: =($B26*'Composición'!D257)/100 -> 0 | F26: =($B26*'Composición'!E257)/100 -> 0 | G26: =($B26*'Composición'!F257)/100 -> 0 | H26: =($B26*'Composición'!G257)/100 -> 0 | I26: =($B26*'Composición'!H257)/100 -> 0 | J26: =($B26*'Composición'!I257)/100 -> 0 | ... M26: =($B26*'Composición'!L257)/100 -> 0
A27: CARNE DE VACA GRASA | C27: =($B27*'Composición'!B58)/100 -> 0 | D27: =($B27*'Composición'!C58)/100 -> 0 | E27: =($B27*'Composición'!D58)/100 -> 0 | F27: =($B27*'Composición'!E58)/100 -> 0 | G27: =($B27*'Composición'!F58)/100 -> 0 | H27: =($B27*'Composición'!G58)/100 -> 0 | I27: =($B27*'Composición'!H58)/100 -> 0 | J27: =($B27*'Composición'!I58)/100 -> 0 | ... M27: =($B27*'Composición'!L58)/100 -> 0
A28: CARNE DE VACA MAGRA | C28: =($B28*'Composición'!B69)/100 -> 0 | D28: =($B28*'Composición'!C69)/100 -> 0 | E28: =($B28*'Composición'!D69)/100 -> 0 | F28: =($B28*'Composición'!E69)/100 -> 0 | G28: =($B28*'Composición'!F69)/100 -> 0 | H28: =($B28*'Composición'!G69)/100 -> 0 | I28: =($B28*'Composición'!H69)/100 -> 0 | J28: =($B28*'Composición'!I69)/100 -> 0 | ... M28: =($B28*'Composición'!L69)/100 -> 0
A29: SUMA TOTAL CARNES | B29: =SUM(B24:B28) -> 0 | C29: =SUM(C24:C28) -> 0 | D29: =SUM(D24:D28) -> 0 | E29: =SUM(E24:E28) -> 0 | F29: =SUM(F24:F28) -> 0 | G29: =SUM(G24:G28) -> 0 | H29: =SUM(H24:H28) -> 0 | I29: =SUM(I24:I28) -> 0 | ... M29: =SUM(M24:M28) -> 0
A30: PESCADOS | B30: Cantidad (g) | C30: HC (g) | D30: PROTEÍNAS (g) | E30: GRASAS TOTALES (g) | F30: GRASAS SATURADAS | G30: VET (kcal) | H30: FIBR T(g) | I30: HIE (mg) | J30: CAL (mg) | K30: ZINC (ug) | L30: A FÓLICO (ug) | M30: SODIO (mg)
A31: ATUN Y CABALLA | C31: =($B31*'Composición'!B36)/100 -> 0 | D31: =($B31*'Composición'!C36)/100 -> 0 | E31: =($B31*'Composición'!D36)/100 -> 0 | F31: =($B31*'Composición'!E36)/100 -> 0 | G31: =($B31*'Composición'!F36)/100 -> 0 | H31: =($B31*'Composición'!G36)/100 -> 0 | I31: =($B31*'Composición'!H36)/100 -> 0 | J31: =($B31*'Composición'!I36)/100 -> 0 | ... M31: =($B31*'Composición'!L36)/100 -> 0
A32: PESCADO GRASO | C32: =($B32*'Composición'!B237)/100 -> 0 | D32: =($B32*'Composición'!C237)/100 -> 0 | E32: =($B32*'Composición'!D237)/100 -> 0 | F32: =($B32*'Composición'!E237)/100 -> 0 | G32: =($B32*'Composición'!F237)/100 -> 0 | H32: =($B32*'Composición'!G237)/100 -> 0 | I32: =($B32*'Composición'!H237)/100 -> 0 | J32: =($B32*'Composición'!I237)/100 -> 0 | ... M32: =($B32*'Composición'!L237)/100 -> 0
A33: PESCADO MAGRO | C33: =($B33*'Composición'!B248)/100 -> 0 | D33: =($B33*'Composición'!C248)/100 -> 0 | E33: =($B33*'Composición'!D248)/100 -> 0 | F33: =($B33*'Composición'!E248)/100 -> 0 | G33: =($B33*'Composición'!F248)/100 -> 0 | H33: =($B33*'Composición'!G248)/100 -> 0 | I33: =($B33*'Composición'!H248)/100 -> 0 | J33: =($B33*'Composición'!I248)/100 -> 0 | ... M33: =($B33*'Composición'!L248)/100 -> 0
A34: SUMA TOTAL PESCADOS | B34: =SUM(B31:B33) -> 0 | C34: =SUM(C31:C33) -> 0 | D34: =SUM(D31:D33) -> 0 | E34: =SUM(E31:E33) -> 0 | F34: =SUM(F31:F33) -> 0 | G34: =SUM(G31:G33) -> 0 | H34: =SUM(H31:H33) -> 0 | I34: =SUM(I31:I33) -> 0 | ... M34: =SUM(M31:M33) -> 0
A35: VEGETALES A | B35: Cantidad (g) | C35: HC (g) | D35: PROTEÍNAS (g) | E35: GRASAS TOTALES (g) | F35: GRASAS SATURADAS | G35: VET (kcal) | H35: FIBR T(g) | I35: HIE (mg) | J35: CAL (mg) | K35: ZINC (ug) | L35: A FÓLICO (ug) | M35: SODIO (mg)
A36: ACELGA | C36: =($B36*'Composición'!B11)/100 -> 0 | D36: =($B36*'Composición'!C11)/100 -> 0 | E36: =($B36*'Composición'!D11)/100 -> 0 | F36: =($B36*'Composición'!E11)/100 -> 0 | G36: =($B36*'Composición'!F11)/100 -> 0 | H36: =($B36*'Composición'!G11)/100 -> 0 | I36: =($B36*'Composición'!H11)/100 -> 0 | J36: =($B36*'Composición'!I11)/100 -> 0 | ... M36: =($B36*'Composición'!L11)/100 -> 0
A37: ACHICORIA | C37: =($B37*'Composición'!B12)/100 -> 0 | D37: =($B37*'Composición'!C12)/100 -> 0 | E37: =($B37*'Composición'!D12)/100 -> 0 | F37: =($B37*'Composición'!E12)/100 -> 0 | G37: =($B37*'Composición'!F12)/100 -> 0 | H37: =($B37*'Composición'!G12)/100 -> 0 | I37: =($B37*'Composición'!H12)/100 -> 0 | J37: =($B37*'Composición'!I12)/100 -> 0 | ... M37: =($B37*'Composición'!L12)/100 -> 0
A38: APIO | C38: =($B38*'Composición'!B22)/100 -> 0 | D38: =($B38*'Composición'!C22)/100 -> 0 | E38: =($B38*'Composición'!D22)/100 -> 0 | F38: =($B38*'Composición'!E22)/100 -> 0 | G38: =($B38*'Composición'!F22)/100 -> 0 | H38: =($B38*'Composición'!G22)/100 -> 0 | I38: =($B38*'Composición'!H22)/100 -> 0 | J38: =($B38*'Composición'!I22)/100 -> 0 | ... M38: =($B38*'Composición'!L22)/100 -> 0
A39: BERENJENA | C39: =($B39*'Composición'!B45)/100 -> 0 | D39: =($B39*'Composición'!C45)/100 -> 0 | E39: =($B39*'Composición'!D45)/100 -> 0 | F39: =($B39*'Composición'!E45)/100 -> 0 | G39: =($B39*'Composición'!F45)/100 -> 0 | H39: =($B39*'Composición'!G45)/100 -> 0 | I39: =($B39*'Composición'!H45)/100 -> 0 | J39: =($B39*'Composición'!I45)/100 -> 0 | ... M39: =($B39*'Composición'!L45)/100 -> 0
A40: BERRO | C40: =($B40*'Composición'!B46)/100 -> 0 | D40: =($B40*'Composición'!C46)/100 -> 0 | E40: =($B40*'Composición'!D46)/100 -> 0 | F40: =($B40*'Composición'!E46)/100 -> 0 | G40: =($B40*'Composición'!F46)/100 -> 0 | H40: =($B40*'Composición'!G46)/100 -> 0 | I40: =($B40*'Composición'!H46)/100 -> 0 | J40: =($B40*'Composición'!I46)/100 -> 0 | ... M40: =($B40*'Composición'!L46)/100 -> 0
A41: BRÓCOLI | C41: =($B41*'Composición'!B49)/100 -> 0 | D41: =($B41*'Composición'!C49)/100 -> 0 | E41: =($B41*'Composición'!D49)/100 -> 0 | F41: =($B41*'Composición'!E49)/100 -> 0 | G41: =($B41*'Composición'!F49)/100 -> 0 | H41: =($B41*'Composición'!G49)/100 -> 0 | I41: =($B41*'Composición'!H49)/100 -> 0 | J41: =($B41*'Composición'!I49)/100 -> 0 | ... M41: =($B41*'Composición'!L49)/100 -> 0
A42: COLIFLOR | C42: =($B42*'Composición'!B97)/100 -> 0 | D42: =($B42*'Composición'!C97)/100 -> 0 | E42: =($B42*'Composición'!D97)/100 -> 0 | F42: =($B42*'Composición'!E97)/100 -> 0 | G42: =($B42*'Composición'!F97)/100 -> 0 | H42: =($B42*'Composición'!G97)/100 -> 0 | I42: =($B42*'Composición'!H97)/100 -> 0 | J42: =($B42*'Composición'!I97)/100 -> 0 | ... M42: =($B42*'Composición'!L97)/100 -> 0
A43: ESPARRAGO | C43: =($B43*'Composición'!B126)/100 -> 0 | D43: =($B43*'Composición'!C126)/100 -> 0 | E43: =($B43*'Composición'!D126)/100 -> 0 | F43: =($B43*'Composición'!E126)/100 -> 0 | G43: =($B43*'Composición'!F126)/100 -> 0 | H43: =($B43*'Composición'!G126)/100 -> 0 | I43: =($B43*'Composición'!H126)/100 -> 0 | J43: =($B43*'Composición'!I126)/100 -> 0 | ... M43: =($B43*'Composición'!L126)/100 -> 0
A44: ESPINACA | C44: =($B44*'Composición'!B129)/100 -> 0 | D44: =($B44*'Composición'!C129)/100 -> 0 | E44: =($B44*'Composición'!D129)/100 -> 0 | F44: =($B44*'Composición'!E129)/100 -> 0 | G44: =($B44*'Composición'!F129)/100 -> 0 | H44: =($B44*'Composición'!G129)/100 -> 0 | I44: =($B44*'Composición'!H129)/100 -> 0 | J44: =($B44*'Composición'!I129)/100 -> 0 | ... M44: =($B44*'Composición'!L129)/100 -> 0
A45: LECHUGA | C45: =($B45*'Composición'!B177)/100 -> 0 | D45: =($B45*'Composición'!C177)/100 -> 0 | E45: =($B45*'Composición'!D177)/100 -> 0 | F45: =($B45*'Composición'!E177)/100 -> 0 | G45: =($B45*'Composición'!F177)/100 -> 0 | H45: =($B45*'Composición'!G177)/100 -> 0 | I45: =($B45*'Composición'!H177)/100 -> 0 | J45: =($B45*'Composición'!I177)/100 -> 0 | ... M45: =($B45*'Composición'!L177)/100 -> 0
A46: PEPINO | C46: =($B46*'Composición'!B223)/100 -> 0 | D46: =($B46*'Composición'!C223)/100 -> 0 | E46: =($B46*'Composición'!D223)/100 -> 0 | F46: =($B46*'Composición'!E223)/100 -> 0 | G46: =($B46*'Composición'!F223)/100 -> 0 | H46: =($B46*'Composición'!G223)/100 -> 0 | I46: =($B46*'Composición'!H223)/100 -> 0 | J46: =($B46*'Composición'!I223)/100 -> 0 | ... M46: =($B46*'Composición'!L223)/100 -> 0
A47: PIMIENTO | C47: =($B47*'Composición'!B250)/100 -> 0 | D47: =($B47*'Composición'!C250)/100 -> 0 | E47: =($B47*'Composición'!D250)/100 -> 0 | F47: =($B47*'Composición'!E250)/100 -> 0 | G47: =($B47*'Composición'!F250)/100 -> 0 | H47: =($B47*'Composición'!G250)/100 -> 0 | I47: =($B47*'Composición'!H250)/100 -> 0 | J47: =($B47*'Composición'!I250)/100 -> 0 | ... M47: =($B47*'Composición'!L250)/100 -> 0
A48: RABANITO | C48: =($B48*'Composición'!B283)/100 -> 0 | D48: =($B48*'Composición'!C283)/100 -> 0 | E48: =($B48*'Composición'!D283)/100 -> 0 | F48: =($B48*'Composición'!E283)/100 -> 0 | G48: =($B48*'Composición'!F283)/100 -> 0 | H48: =($B48*'Composición'!G283)/100 -> 0 | I48: =($B48*'Composición'!H283)/100 -> 0 | J48: =($B48*'Composición'!I283)/100 -> 0 | ... M48: =($B48*'Composición'!L283)/100 -> 0
A49: REPOLLO | C49: =($B49*'Composición'!B289)/100 -> 0 | D49: =($B49*'Composición'!C289)/100 -> 0 | E49: =($B49*'Composición'!D289)/100 -> 0 | F49: =($B49*'Composición'!E289)/100 -> 0 | G49: =($B49*'Composición'!F289)/100 -> 0 | H49: =($B49*'Composición'!G289)/100 -> 0 | I49: =($B49*'Composición'!H289)/100 -> 0 | J49: =($B49*'Composición'!I289)/100 -> 0 | ... M49: =($B49*'Composición'!L289)/100 -> 0
A50: TOMATE | C50: =($B50*'Composición'!B322)/100 -> 0 | D50: =($B50*'Composición'!C322)/100 -> 0 | E50: =($B50*'Composición'!D322)/100 -> 0 | F50: =($B50*'Composición'!E322)/100 -> 0 | G50: =($B50*'Composición'!F322)/100 -> 0 | H50: =($B50*'Composición'!G322)/100 -> 0 | I50: =($B50*'Composición'!H322)/100 -> 0 | J50: =($B50*'Composición'!I322)/100 -> 0 | ... M50: =($B50*'Composición'!L322)/100 -> 0
A51: ZAPALLITO | C51: =($B51*'Composición'!B334)/100 -> 0 | D51: =($B51*'Composición'!C334)/100 -> 0 | E51: =($B51*'Composición'!D334)/100 -> 0 | F51: =($B51*'Composición'!E334)/100 -> 0 | G51: =($B51*'Composición'!F334)/100 -> 0 | H51: =($B51*'Composición'!G334)/100 -> 0 | I51: =($B51*'Composición'!H334)/100 -> 0 | J51: =($B51*'Composición'!I334)/100 -> 0 | ... M51: =($B51*'Composición'!L334)/100 -> 0
A52: SUMA TOTAL VEGETALES A | B52: =SUM(B36:B51) -> 0 | C52: =SUM(C36:C51) -> 0 | D52: =SUM(D36:D51) -> 0 | E52: =SUM(E36:E51) -> 0 | F52: =SUM(F36:F51) -> 0 | G52: =SUM(G36:G51) -> 0 | H52: =SUM(H36:H51) -> 0 | I52: =SUM(I36:I51) -> 0 | ... M52: =SUM(M36:M51) -> 0
A53: VEGETALES B | B53: Cantidad (g) | C53: HC (g) | D53: PROTEÍNAS (g) | E53: GRASAS TOTALES (g) | F53: GRASAS SATURADAS | G53: VET (kcal) | H53: FIBR T(g) | I53: HIE (mg) | J53: CAL (mg) | K53: ZINC (ug) | L53: A FÓLICO (ug) | M53: SODIO (mg)
A54: AJO | C54: =($B54*'Composición'!B13)/100 -> 0 | D54: =($B54*'Composición'!C13)/100 -> 0 | E54: =($B54*'Composición'!D13)/100 -> 0 | F54: =($B54*'Composición'!E13)/100 -> 0 | G54: =($B54*'Composición'!F13)/100 -> 0 | H54: =($B54*'Composición'!G13)/100 -> 0 | I54: =($B54*'Composición'!H13)/100 -> 0 | J54: =($B54*'Composición'!I13)/100 -> 0 | ... M54: =($B54*'Composición'!L13)/100 -> 0
A55: ALCAUCIL | C55: =($B55*'Composición'!B16)/100 -> 0 | D55: =($B55*'Composición'!C16)/100 -> 0 | E55: =($B55*'Composición'!D16)/100 -> 0 | F55: =($B55*'Composición'!E16)/100 -> 0 | G55: =($B55*'Composición'!F16)/100 -> 0 | H55: =($B55*'Composición'!G16)/100 -> 0 | I55: =($B55*'Composición'!H16)/100 -> 0 | J55: =($B55*'Composición'!I16)/100 -> 0 | ... M55: =($B55*'Composición'!L16)/100 -> 0
A56: ARVEJAS FRESCAS | C56: =($B56*'Composición'!B24)/100 -> 0 | D56: =($B56*'Composición'!C24)/100 -> 0 | E56: =($B56*'Composición'!D24)/100 -> 0 | F56: =($B56*'Composición'!E24)/100 -> 0 | G56: =($B56*'Composición'!F24)/100 -> 0 | H56: =($B56*'Composición'!G24)/100 -> 0 | I56: =($B56*'Composición'!H24)/100 -> 0 | J56: =($B56*'Composición'!I24)/100 -> 0 | ... M56: =($B56*'Composición'!L24)/100 -> 0
A57: CALABAZA O CALABACIN | C57: =($B57*'Composición'!B52)/100 -> 0 | D57: =($B57*'Composición'!C52)/100 -> 0 | E57: =($B57*'Composición'!D52)/100 -> 0 | F57: =($B57*'Composición'!E52)/100 -> 0 | G57: =($B57*'Composición'!F52)/100 -> 0 | H57: =($B57*'Composición'!G52)/100 -> 0 | I57: =($B57*'Composición'!H52)/100 -> 0 | J57: =($B57*'Composición'!I52)/100 -> 0 | ... M57: =($B57*'Composición'!L52)/100 -> 0
A58: CEBOLLA | C58: =($B58*'Composición'!B77)/100 -> 0 | D58: =($B58*'Composición'!C77)/100 -> 0 | E58: =($B58*'Composición'!D77)/100 -> 0 | F58: =($B58*'Composición'!E77)/100 -> 0 | G58: =($B58*'Composición'!F77)/100 -> 0 | H58: =($B58*'Composición'!G77)/100 -> 0 | I58: =($B58*'Composición'!H77)/100 -> 0 | J58: =($B58*'Composición'!I77)/100 -> 0 | ... M58: =($B58*'Composición'!L77)/100 -> 0
A59: CHAUCHA | C59: =($B59*'Composición'!B100)/100 -> 0 | D59: =($B59*'Composición'!C100)/100 -> 0 | E59: =($B59*'Composición'!D100)/100 -> 0 | F59: =($B59*'Composición'!E100)/100 -> 0 | G59: =($B59*'Composición'!F100)/100 -> 0 | H59: =($B59*'Composición'!G100)/100 -> 0 | I59: =($B59*'Composición'!H100)/100 -> 0 | J59: =($B59*'Composición'!I100)/100 -> 0 | ... M59: =($B59*'Composición'!L100)/100 -> 0
A60: REMOLACHA | C60: =($B60*'Composición'!B284)/100 -> 0 | D60: =($B60*'Composición'!C284)/100 -> 0 | E60: =($B60*'Composición'!D284)/100 -> 0 | F60: =($B60*'Composición'!E284)/100 -> 0 | G60: =($B60*'Composición'!F284)/100 -> 0 | H60: =($B60*'Composición'!G284)/100 -> 0 | I60: =($B60*'Composición'!H284)/100 -> 0 | J60: =($B60*'Composición'!I284)/100 -> 0 | ... M60: =($B60*'Composición'!L284)/100 -> 0
A61: ZANAHORIA | C61: =($B61*'Composición'!B332)/100 -> 0 | D61: =($B61*'Composición'!C332)/100 -> 0 | E61: =($B61*'Composición'!D332)/100 -> 0 | F61: =($B61*'Composición'!E332)/100 -> 0 | G61: =($B61*'Composición'!F332)/100 -> 0 | H61: =($B61*'Composición'!G332)/100 -> 0 | I61: =($B61*'Composición'!H332)/100 -> 0 | J61: =($B61*'Composición'!I332)/100 -> 0 | ... M61: =($B61*'Composición'!L332)/100 -> 0
A62: ZAPALLO | C62: =($B62*'Composición'!B338)/100 -> 0 | D62: =($B62*'Composición'!C338)/100 -> 0 | E62: =($B62*'Composición'!D338)/100 -> 0 | F62: =($B62*'Composición'!E338)/100 -> 0 | G62: =($B62*'Composición'!F338)/100 -> 0 | H62: =($B62*'Composición'!G338)/100 -> 0 | I62: =($B62*'Composición'!H338)/100 -> 0 | J62: =($B62*'Composición'!I338)/100 -> 0 | ... M62: =($B62*'Composición'!L338)/100 -> 0
A63: SUMA TOTAL VEGETALES B | B63: =SUM(B54:B62) -> 0 | C63: =SUM(C54:C62) -> 0 | D63: =SUM(D54:D62) -> 0 | E63: =SUM(E54:E62) -> 0 | F63: =SUM(F54:F62) -> 0 | G63: =SUM(G54:G62) -> 0 | H63: =SUM(H54:H62) -> 0 | I63: =SUM(I54:I62) -> 0 | ... M63: =SUM(M54:M62) -> 0
A64: VEGETALES C | B64: Cantidad (g) | C64: HC (g) | D64: PROTEÍNAS (g) | E64: GRASAS TOTALES (g) | F64: GRASAS SATURADAS | G64: VET (kcal) | H64: FIBR T(g) | I64: HIE (mg) | J64: CAL (mg) | K64: ZINC (ug) | L64: A FÓLICO (ug) | M64: SODIO (mg)
A65: BATATA | C65: =($B65*'Composición'!B41)/100 -> 0 | D65: =($B65*'Composición'!C41)/100 -> 0 | E65: =($B65*'Composición'!D41)/100 -> 0 | F65: =($B65*'Composición'!E41)/100 -> 0 | G65: =($B65*'Composición'!F41)/100 -> 0 | H65: =($B65*'Composición'!G41)/100 -> 0 | I65: =($B65*'Composición'!H41)/100 -> 0 | J65: =($B65*'Composición'!I41)/100 -> 0 | ... M65: =($B65*'Composición'!L41)/100 -> 0
A66: CHOCLO | C66: =($B66*'Composición'!B107)/100 -> 0 | D66: =($B66*'Composición'!C107)/100 -> 0 | E66: =($B66*'Composición'!D107)/100 -> 0 | F66: =($B66*'Composición'!E107)/100 -> 0 | G66: =($B66*'Composición'!F107)/100 -> 0 | H66: =($B66*'Composición'!G107)/100 -> 0 | I66: =($B66*'Composición'!H107)/100 -> 0 | J66: =($B66*'Composición'!I107)/100 -> 0 | ... M66: =($B66*'Composición'!L107)/100 -> 0
A67: PAPA | C67: =($B67*'Composición'!B221)/100 -> 0 | D67: =($B67*'Composición'!C221)/100 -> 0 | E67: =($B67*'Composición'!D221)/100 -> 0 | F67: =($B67*'Composición'!E221)/100 -> 0 | G67: =($B67*'Composición'!F221)/100 -> 0 | H67: =($B67*'Composición'!G221)/100 -> 0 | I67: =($B67*'Composición'!H221)/100 -> 0 | J67: =($B67*'Composición'!I221)/100 -> 0 | ... M67: =($B67*'Composición'!L221)/100 -> 0
A68: SUMA TOTAL VEGETALES C | B68: =SUM(B65:B67) -> 0 | C68: =SUM(C65:C67) -> 0 | D68: =SUM(D65:D67) -> 0 | E68: =SUM(E65:E67) -> 0 | F68: =SUM(F65:F67) -> 0 | G68: =SUM(G65:G67) -> 0 | H68: =SUM(H65:H67) -> 0 | I68: =SUM(I65:I67) -> 0 | ... M68: =SUM(M65:M67) -> 0
A69: FRUTAS A | B69: Cantidad (g) | C69: HC (g) | D69: PROTEÍNAS (g) | E69: GRASAS TOTALES (g) | F69: GRASAS SATURADAS | G69: VET (kcal) | H69: FIBR T(g) | I69: HIE (mg) | J69: CAL (mg) | K69: ZINC (ug) | L69: A FÓLICO (ug) | M69: SODIO (mg)
A70: ANANÁ | C70: =($B70*'Composición'!B20)/100 -> 0 | D70: =($B70*'Composición'!C20)/100 -> 0 | E70: =($B70*'Composición'!D20)/100 -> 0 | F70: =($B70*'Composición'!E20)/100 -> 0 | G70: =($B70*'Composición'!F20)/100 -> 0 | H70: =($B70*'Composición'!G20)/100 -> 0 | I70: =($B70*'Composición'!H20)/100 -> 0 | J70: =($B70*'Composición'!I20)/100 -> 0 | ... M70: =($B70*'Composición'!L20)/100 -> 0
A71: CIRUELA | C71: =($B71*'Composición'!B93)/100 -> 0 | D71: =($B71*'Composición'!C93)/100 -> 0 | E71: =($B71*'Composición'!D93)/100 -> 0 | F71: =($B71*'Composición'!E93)/100 -> 0 | G71: =($B71*'Composición'!F93)/100 -> 0 | H71: =($B71*'Composición'!G93)/100 -> 0 | I71: =($B71*'Composición'!H93)/100 -> 0 | J71: =($B71*'Composición'!I93)/100 -> 0 | ... M71: =($B71*'Composición'!L93)/100 -> 0
A72: DAMASCO | C72: =($B72*'Composición'!B118)/100 -> 0 | D72: =($B72*'Composición'!C118)/100 -> 0 | E72: =($B72*'Composición'!D118)/100 -> 0 | F72: =($B72*'Composición'!E118)/100 -> 0 | G72: =($B72*'Composición'!F118)/100 -> 0 | H72: =($B72*'Composición'!G118)/100 -> 0 | I72: =($B72*'Composición'!H118)/100 -> 0 | J72: =($B72*'Composición'!I118)/100 -> 0 | ... M72: =($B72*'Composición'!L118)/100 -> 0
A73: DURAZNO | C73: =($B73*'Composición'!B122)/100 -> 0 | D73: =($B73*'Composición'!C122)/100 -> 0 | E73: =($B73*'Composición'!D122)/100 -> 0 | F73: =($B73*'Composición'!E122)/100 -> 0 | G73: =($B73*'Composición'!F122)/100 -> 0 | H73: =($B73*'Composición'!G122)/100 -> 0 | I73: =($B73*'Composición'!H122)/100 -> 0 | J73: =($B73*'Composición'!I122)/100 -> 0 | ... M73: =($B73*'Composición'!L122)/100 -> 0
A74: FRUTILLA | C74: =($B74*'Composición'!B132)/100 -> 0 | D74: =($B74*'Composición'!C132)/100 -> 0 | E74: =($B74*'Composición'!D132)/100 -> 0 | F74: =($B74*'Composición'!E132)/100 -> 0 | G74: =($B74*'Composición'!F132)/100 -> 0 | H74: =($B74*'Composición'!G132)/100 -> 0 | I74: =($B74*'Composición'!H132)/100 -> 0 | J74: =($B74*'Composición'!I132)/100 -> 0 | ... M74: =($B74*'Composición'!L132)/100 -> 0
A75: KIWI | C75: =($B75*'Composición'!B174)/100 -> 0 | D75: =($B75*'Composición'!C174)/100 -> 0 | E75: =($B75*'Composición'!D174)/100 -> 0 | F75: =($B75*'Composición'!E174)/100 -> 0 | G75: =($B75*'Composición'!F174)/100 -> 0 | H75: =($B75*'Composición'!G174)/100 -> 0 | I75: =($B75*'Composición'!H174)/100 -> 0 | J75: =($B75*'Composición'!I174)/100 -> 0 | ... M75: =($B75*'Composición'!L174)/100 -> 0
A76: LIMON | C76: =($B76*'Composición'!B180)/100 -> 0 | D76: =($B76*'Composición'!C180)/100 -> 0 | E76: =($B76*'Composición'!D180)/100 -> 0 | F76: =($B76*'Composición'!E180)/100 -> 0 | G76: =($B76*'Composición'!F180)/100 -> 0 | H76: =($B76*'Composición'!G180)/100 -> 0 | I76: =($B76*'Composición'!H180)/100 -> 0 | J76: =($B76*'Composición'!I180)/100 -> 0 | ... M76: =($B76*'Composición'!L180)/100 -> 0
A77: MANDARINA | C77: =($B77*'Composición'!B181)/100 -> 0 | D77: =($B77*'Composición'!C181)/100 -> 0 | E77: =($B77*'Composición'!D181)/100 -> 0 | F77: =($B77*'Composición'!E181)/100 -> 0 | G77: =($B77*'Composición'!F181)/100 -> 0 | H77: =($B77*'Composición'!G181)/100 -> 0 | I77: =($B77*'Composición'!H181)/100 -> 0 | J77: =($B77*'Composición'!I181)/100 -> 0 | ... M77: =($B77*'Composición'!L181)/100 -> 0
A78: MANZANA | C78: =($B78*'Composición'!B185)/100 -> 0 | D78: =($B78*'Composición'!C185)/100 -> 0 | E78: =($B78*'Composición'!D185)/100 -> 0 | F78: =($B78*'Composición'!E185)/100 -> 0 | G78: =($B78*'Composición'!F185)/100 -> 0 | H78: =($B78*'Composición'!G185)/100 -> 0 | I78: =($B78*'Composición'!H185)/100 -> 0 | J78: =($B78*'Composición'!I185)/100 -> 0 | ... M78: =($B78*'Composición'!L185)/100 -> 0
A79: MELON | C79: =($B79*'Composición'!B192)/100 -> 0 | D79: =($B79*'Composición'!C192)/100 -> 0 | E79: =($B79*'Composición'!D192)/100 -> 0 | F79: =($B79*'Composición'!E192)/100 -> 0 | G79: =($B79*'Composición'!F192)/100 -> 0 | H79: =($B79*'Composición'!G192)/100 -> 0 | I79: =($B79*'Composición'!H192)/100 -> 0 | J79: =($B79*'Composición'!I192)/100 -> 0 | ... M79: =($B79*'Composición'!L192)/100 -> 0
A80: NARANJA | C80: =($B80*'Composición'!B205)/100 -> 0 | D80: =($B80*'Composición'!C205)/100 -> 0 | E80: =($B80*'Composición'!D205)/100 -> 0 | F80: =($B80*'Composición'!E205)/100 -> 0 | G80: =($B80*'Composición'!F205)/100 -> 0 | H80: =($B80*'Composición'!G205)/100 -> 0 | I80: =($B80*'Composición'!H205)/100 -> 0 | J80: =($B80*'Composición'!I205)/100 -> 0 | ... M80: =($B80*'Composición'!L205)/100 -> 0
A81: PERA | C81: =($B81*'Composición'!B225)/100 -> 0 | D81: =($B81*'Composición'!C225)/100 -> 0 | E81: =($B81*'Composición'!D225)/100 -> 0 | F81: =($B81*'Composición'!E225)/100 -> 0 | G81: =($B81*'Composición'!F225)/100 -> 0 | H81: =($B81*'Composición'!G225)/100 -> 0 | I81: =($B81*'Composición'!H225)/100 -> 0 | J81: =($B81*'Composición'!I225)/100 -> 0 | ... M81: =($B81*'Composición'!L225)/100 -> 0
A82: POMELO | C82: =($B82*'Composición'!B275)/100 -> 0 | D82: =($B82*'Composición'!C275)/100 -> 0 | E82: =($B82*'Composición'!D275)/100 -> 0 | F82: =($B82*'Composición'!E275)/100 -> 0 | G82: =($B82*'Composición'!F275)/100 -> 0 | H82: =($B82*'Composición'!G275)/100 -> 0 | I82: =($B82*'Composición'!H275)/100 -> 0 | J82: =($B82*'Composición'!I275)/100 -> 0 | ... M82: =($B82*'Composición'!L275)/100 -> 0
A83: SANDIA | C83: =($B83*'Composición'!B311)/100 -> 0 | D83: =($B83*'Composición'!C311)/100 -> 0 | E83: =($B83*'Composición'!D311)/100 -> 0 | F83: =($B83*'Composición'!E311)/100 -> 0 | G83: =($B83*'Composición'!F311)/100 -> 0 | H83: =($B83*'Composición'!G311)/100 -> 0 | I83: =($B83*'Composición'!H311)/100 -> 0 | J83: =($B83*'Composición'!I311)/100 -> 0 | ... M83: =($B83*'Composición'!L311)/100 -> 0
A84: SUMA TOTAL FRUTAS A | B84: =SUM(B70:B83) -> 0 | C84: =SUM(C70:C83) -> 0 | D84: =SUM(D70:D83) -> 0 | E84: =SUM(E70:E83) -> 0 | F84: =SUM(F70:F83) -> 0 | G84: =SUM(G70:G83) -> 0 | H84: =SUM(H70:H83) -> 0 | I84: =SUM(I70:I83) -> 0 | ... M84: =SUM(M70:M83) -> 0
A85: FRUTAS B | B85: Cantidad (g) | C85: HC (g) | D85: PROTEÍNAS (g) | E85: GRASAS TOTALES (g) | F85: GRASAS SATURADAS | G85: VET (kcal) | H85: FIBR T(g) | I85: HIE (mg) | J85: CAL (mg) | K85: ZINC (ug) | L85: A FÓLICO (ug) | M85: SODIO (mg)
A86: BANANA | C86: =($B86*'Composición'!B38)/100 -> 0 | D86: =($B86*'Composición'!C38)/100 -> 0 | E86: =($B86*'Composición'!D38)/100 -> 0 | F86: =($B86*'Composición'!E38)/100 -> 0 | G86: =($B86*'Composición'!F38)/100 -> 0 | H86: =($B86*'Composición'!G38)/100 -> 0 | I86: =($B86*'Composición'!H38)/100 -> 0 | J86: =($B86*'Composición'!I38)/100 -> 0 | ... M86: =($B86*'Composición'!L38)/100 -> 0
A87: UVA | C87: =($B87*'Composición'!B327)/100 -> 0 | D87: =($B87*'Composición'!C327)/100 -> 0 | E87: =($B87*'Composición'!D327)/100 -> 0 | F87: =($B87*'Composición'!E327)/100 -> 0 | G87: =($B87*'Composición'!F327)/100 -> 0 | H87: =($B87*'Composición'!G327)/100 -> 0 | I87: =($B87*'Composición'!H327)/100 -> 0 | J87: =($B87*'Composición'!I327)/100 -> 0 | ... M87: =($B87*'Composición'!L327)/100 -> 0
A88: SUMA TOTAL FRUTAS B | B88: =SUM(B86:B87) -> 0 | C88: =SUM(C86:C87) -> 0 | D88: =SUM(D86:D87) -> 0 | E88: =SUM(E86:E87) -> 0 | F88: =SUM(F86:F87) -> 0 | G88: =SUM(G86:G87) -> 0 | H88: =SUM(H86:H87) -> 0 | I88: =SUM(I86:I87) -> 0 | ... M88: =SUM(M86:M87) -> 0
A89: FRUTOS SECOS Y SEMILLAS | B89: Cantidad (g) | C89: HC (g) | D89: PROTEÍNAS (g) | E89: GRASAS TOTALES (g) | F89: GRASAS SATURADAS | G89: VET (kcal) | H89: FIBR T(g) | I89: HIE (mg) | J89: CAL (mg) | K89: ZINC (ug) | L89: A FÓLICO (ug) | M89: SODIO (mg)
A90: ALMENDRA | C90: =($B90*'Composición'!B17)/100 -> 0 | D90: =($B90*'Composición'!C17)/100 -> 0 | E90: =($B90*'Composición'!D17)/100 -> 0 | F90: =($B90*'Composición'!E17)/100 -> 0 | G90: =($B90*'Composición'!F17)/100 -> 0 | H90: =($B90*'Composición'!G17)/100 -> 0 | I90: =($B90*'Composición'!H17)/100 -> 0 | J90: =($B90*'Composición'!I17)/100 -> 0 | ... M90: =($B90*'Composición'!L17)/100 -> 0
A91: MANI | C91: =($B91*'Composición'!B182)/100 -> 0 | D91: =($B91*'Composición'!C182)/100 -> 0 | E91: =($B91*'Composición'!D182)/100 -> 0 | F91: =($B91*'Composición'!E182)/100 -> 0 | G91: =($B91*'Composición'!F182)/100 -> 0 | H91: =($B91*'Composición'!G182)/100 -> 0 | I91: =($B91*'Composición'!H182)/100 -> 0 | J91: =($B91*'Composición'!I182)/100 -> 0 | ... M91: =($B91*'Composición'!L182)/100 -> 0
A92: NUEZ | C92: =($B92*'Composición'!B206)/100 -> 0 | D92: =($B92*'Composición'!C206)/100 -> 0 | E92: =($B92*'Composición'!D206)/100 -> 0 | F92: =($B92*'Composición'!E206)/100 -> 0 | G92: =($B92*'Composición'!F206)/100 -> 0 | H92: =($B92*'Composición'!G206)/100 -> 0 | I92: =($B92*'Composición'!H206)/100 -> 0 | J92: =($B92*'Composición'!I206)/100 -> 0 | ... M92: =($B92*'Composición'!L206)/100 -> 0
A93: SUMA TOTAL FRUTOS SECOS | B93: =SUM(B90:B92) -> 0 | C93: =SUM(C90:C92) -> 0 | D93: =SUM(D90:D92) -> 0 | E93: =SUM(E90:E92) -> 0 | F93: =SUM(F90:F92) -> 0 | G93: =SUM(G90:G92) -> 0 | H93: =SUM(H90:H92) -> 0 | I93: =SUM(I90:I92) -> 0 | ... M93: =SUM(M90:M92) -> 0
A94: SEMILLAS | C94: =($B94*'Composición'!B362)/100 -> 0 | D94: =($B94*'Composición'!C362)/100 -> 0 | E94: =($B94*'Composición'!D362)/100 -> 0 | F94: =($B94*'Composición'!E362)/100 -> 0 | G94: =($B94*'Composición'!F362)/100 -> 0 | H94: =($B94*'Composición'!G362)/100 -> 0 | I94: =($B94*'Composición'!H362)/100 -> 0 | J94: =($B94*'Composición'!I362)/100 -> 0 | ... M94: =($B94*'Composición'!L362)/100 -> 0
A95: LEGUMBRES | B95: Cantidad (g) | C95: HC (g) | D95: PROTEÍNAS (g) | E95: GRASAS TOTALES (g) | F95: GRASAS SATURADAS | G95: VET (kcal) | H95: FIBR T(g) | I95: HIE (mg) | J95: CAL (mg) | K95: ZINC (ug) | L95: A FÓLICO (ug) | M95: SODIO (mg)
A96: POROTO-GARBANZO-ARVEJA | C96: =($B96*'Composición'!B23)/100 -> 0 | D96: =($B96*'Composición'!C23)/100 -> 0 | E96: =($B96*'Composición'!D23)/100 -> 0 | F96: =($B96*'Composición'!E23)/100 -> 0 | G96: =($B96*'Composición'!F23)/100 -> 0 | H96: =($B96*'Composición'!G23)/100 -> 0 | I96: =($B96*'Composición'!H23)/100 -> 0 | J96: =($B96*'Composición'!I23)/100 -> 0 | ... M96: =($B96*'Composición'!L23)/100 -> 0
A97: SOJA | C97: =($B97*'Composición'!B320)/100 -> 0 | D97: =($B97*'Composición'!C320)/100 -> 0 | E97: =($B97*'Composición'!D320)/100 -> 0 | F97: =($B97*'Composición'!E320)/100 -> 0 | G97: =($B97*'Composición'!F320)/100 -> 0 | H97: =($B97*'Composición'!G320)/100 -> 0 | I97: =($B97*'Composición'!H320)/100 -> 0 | J97: =($B97*'Composición'!I320)/100 -> 0 | ... M97: =($B97*'Composición'!L320)/100 -> 0
A98: LENTEJA | C98: =($B98*'Composición'!B179)/100 -> 0 | D98: =($B98*'Composición'!C179)/100 -> 0 | E98: =($B98*'Composición'!D179)/100 -> 0 | F98: =($B98*'Composición'!E179)/100 -> 0 | G98: =($B98*'Composición'!F179)/100 -> 0 | H98: =($B98*'Composición'!G179)/100 -> 0 | I98: =($B98*'Composición'!H179)/100 -> 0 | J98: =($B98*'Composición'!I179)/100 -> 0 | ... M98: =($B98*'Composición'!L179)/100 -> 0
A99: SUMA TOTAL LEGUMBRES | B99: =SUM(B96:B98) -> 0 | C99: =SUM(C96:C98) -> 0 | D99: =SUM(D96:D98) -> 0 | E99: =SUM(E96:E98) -> 0 | F99: =SUM(F96:F98) -> 0 | G99: =SUM(G96:G98) -> 0 | H99: =SUM(H96:H98) -> 0 | I99: =SUM(I96:I98) -> 0 | ... M99: =SUM(M96:M98) -> 0
A100: CEREALES | B100: Cantidad (g) | C100: HC (g) | D100: PROTEÍNAS (g) | E100: GRASAS TOTALES (g) | F100: GRASAS SATURADAS | G100: VET (kcal) | H100: FIBR T(g) | I100: HIE (mg) | J100: CAL (mg) | K100: ZINC (ug) | L100: A FÓLICO (ug) | M100: SODIO (mg)
A101: GRANOS INTEGRALES (ARROZ INTEGRAL) | C101: =($B101*'Composición'!B161)/100 -> 0 | D101: =($B101*'Composición'!C161)/100 -> 0 | E101: =($B101*'Composición'!D161)/100 -> 0 | F101: =($B101*'Composición'!E161)/100 -> 0 | G101: =($B101*'Composición'!F161)/100 -> 0 | H101: =($B101*'Composición'!G161)/100 -> 0 | I101: =($B101*'Composición'!H161)/100 -> 0 | J101: =($B101*'Composición'!I161)/100 -> 0 | ... M101: =($B101*'Composición'!L161)/100 -> 0
A102: SALVADO | C102: =($B102*'Composición'!B310)/100 -> 0 | D102: =($B102*'Composición'!C310)/100 -> 0 | E102: =($B102*'Composición'!D310)/100 -> 0 | F102: =($B102*'Composición'!E310)/100 -> 0 | G102: =($B102*'Composición'!F310)/100 -> 0 | H102: =($B102*'Composición'!G310)/100 -> 0 | I102: =($B102*'Composición'!H310)/100 -> 0 | J102: =($B102*'Composición'!I310)/100 -> 0 | K102: =($B102*'Composición'!J310)/100 -> 0 | L102: =($B102*'Composición'!K162)/100 -> 0 | M102: =($B102*'Composición'!L162)/100 -> 0
A103: GRANOS NO INTEGRALES (ARROZ, MAIZ) | C103: =($B103*'Composición'!B162)/100 -> 0 | D103: =($B103*'Composición'!C162)/100 -> 0 | E103: =($B103*'Composición'!D162)/100 -> 0 | F103: =($B103*'Composición'!E162)/100 -> 0 | G103: =($B103*'Composición'!F162)/100 -> 0 | H103: =($B103*'Composición'!G162)/100 -> 0 | I103: =($B103*'Composición'!H162)/100 -> 0 | J103: =($B103*'Composición'!I162)/100 -> 0 | K103: =($B103*'Composición'!J162)/100 -> 0 | L103: =($B103*'Composición'!K163)/100 -> 0 | M103: =($B103*'Composición'!L163)/100 -> 0
A104: PASTAS | C104: =($B104*'Composición'!B222)/100 -> 0 | D104: =($B104*'Composición'!C222)/100 -> 0 | E104: =($B104*'Composición'!D222)/100 -> 0 | F104: =($B104*'Composición'!E222)/100 -> 0 | G104: =($B104*'Composición'!F222)/100 -> 0 | H104: =($B104*'Composición'!G222)/100 -> 0 | I104: =($B104*'Composición'!H222)/100 -> 0 | J104: =($B104*'Composición'!I222)/100 -> 0 | K104: =($B104*'Composición'!J222)/100 -> 0 | L104: =($B104*'Composición'!K164)/100 -> 0 | M104: =($B104*'Composición'!L164)/100 -> 0
A105: SUMA TOTAL CEREALES | B105: =SUM(B101:B104) -> 0 | C105: =SUM(C101:C104) -> 0 | D105: =SUM(D101:D104) -> 0 | E105: =SUM(E101:E104) -> 0 | F105: =SUM(F101:F104) -> 0 | G105: =SUM(G101:G104) -> 0 | H105: =SUM(H101:H104) -> 0 | I105: =SUM(I101:I104) -> 0 | ... M105: =SUM(M101:M104) -> 0
...

Sheet Composición
A1: ALIMENTO | B1: HC (g) | C1: PRT (g) | D1: GRASAS TOTALES (g) | E1: GRASAS SATURADAS (G) | F1: VET (kcal) | G1: FIBR T(g) | H1: HIE (mg) | I1: CAL (mg) | J1: ZIN (ug) | K1: A FOLICO | L1: SODIO | M1: C4 | N1: C12 | O1: C14 | P1: C16 | Q1: C18 | R1: C20 | S1: C220
A2: ACEITE DE GIRASOL | B2: 0 | C2: 0 | D2: 100 | E2: =(M2+N2+O2+P2+Q2+R2+S2) -> 11.24 | F2: 900 | G2: 0 | H2: 0 | I2: 0 | J2: 0 | K2: 0 | L2: 0 | M2: 0 | N2: 0 | O2: 0 | P2: 5.92 | Q2: 4.78 | R2: 0.54 | S2: 0
A3: ACEITE DE MAIZ | B3: 0 | C3: 0 | D3: 100 | E3: =(M3+N3+O3+P3+Q3+R3+S3) -> 14.96 | F3: 900 | G3: 0 | H3: 0 | I3: 0 | J3: 0 | K3: 0 | L3: 0 | M3: 0 | N3: 0 | O3: 0.57 | P3: 11.69 | Q3: 2.3 | R3: 0.4 | S3: 0
A4: ACEITE DE MANI | B4: 0 | C4: 0 | D4: 100 | E4: =(M4+N4+O4+P4+Q4+R4+S4) -> 18.34 | F4: 900 | G4: 0 | H4: 0 | I4: 0 | J4: 0 | K4: 0 | L4: 0 | M4: 0 | N4: 0.1 | O4: 0.27 | P4: 9.91 | Q4: 2.53 | R4: 2.28 | S4: 3.25
A5: ACEITE DE OLIVA | B5: 0 | C5: 0 | D5: 100 | E5: =(M5+N5+O5+P5+Q5+R5+S5) -> 16.16 | F5: 900 | G5: 0 | H5: 0 | I5: 0 | J5: 0 | K5: 0 | L5: 0 | M5: 0 | N5: 0 | O5: 0 | P5: 13.67 | Q5: 2.23 | R5: 0.17 | S5: 0.09
A6: ACEITE DE SOJA | B6: 0 | C6: 0 | D6: 100 | E6: =(M6+N6+O6+P6+Q6+R6+S6) -> 14.02 | F6: 900 | G6: 0 | H6: 0 | I6: 0 | J6: 0 | K6: 0 | L6: 0 | M6: 0 | N6: 0 | O6: 0.15 | P6: 9.79 | Q6: 3.68 | R6: 0.4 | S6: 0
A7: ACEITE DE UVA | B7: 0 | C7: 0 | D7: 100 | E7: =(M7+N7+O7+P7+Q7+R7+S7) -> 9.23 | F7: 900 | G7: 0 | H7: 0 | I7: 0 | J7: 0 | K7: 0 | L7: 0 | M7: 0 | N7: 0 | O7: 0.1 | P7: 6.3 | Q7: 2.83 | R7: 0 | S7: 0
A8: ACEITE MEZCLA | B8: 0 | C8: 0 | D8: 100 | E8: =(M8+N8+O8+P8+Q8+R8+S8) -> 13.35 | F8: 900 | G8: 0 | H8: 0 | I8: 0 | J8: 0 | K8: 0 | L8: 0 | M8: 0 | N8: 0 | O8: 0 | P8: 7.74 | Q8: 4.81 | R8: 0.8 | S8: 0
A9: ACEITE PATITO | B9: 0 | C9: 0 | D9: 100 | E9: =(M9+N9+O9+P9+Q9+R9+S9) -> 12.6 | F9: 900 | G9: 0 | H9: 0 | I9: 0 | J9: 0 | K9: 0 | L9: 0 | M9: 1.38 | N9: 0.57 | O9: 0.07 | P9: 6.6 | Q9: 3.2 | R9: 0.2 | S9: 0.58
A10: ACELGA MICROONDAS | B10: 5.6 | C10: 1.6 | D10: 0.4 | E10: =(M10+N10+O10+P10+Q10+R10+S10) -> 0 | F10: 32.4 | G10: 1 | H10: 3.6 | I10: 110 | J10: 350 | K10: 13.8 | L10: 192 | M10: 0 | N10: 0 | O10: 0 | P10: 0 | Q10: 0 | R10: 0 | S10: 0
A11: ACELGA OTRA COCCION | B11: 5.6 | C11: 1.6 | D11: 0.4 | E11: =(M11+N11+O11+P11+Q11+R11+S11) -> 0 | F11: 32.4 | G11: 1 | H11: 3.6 | I11: 110 | J11: 350 | K11: 7.59 | L11: 192 | M11: 0 | N11: 0 | O11: 0 | P11: 0 | Q11: 0 | R11: 0 | S11: 0
A12: ACHICORIA (CRUDA) | B12: 1.6 | C12: 1.7 | D12: 0.2 | E12: =(M12+N12+O12+P12+Q12+R12+S12) -> 0 | F12: 15 | G12: 1.3 | H12: 0.69 | I12: 18 | J12: 4000 | K12: 107.36 | L12: 8 | M12: 0 | N12: 0 | O12: 0 | P12: 0 | Q12: 0 | R12: 0 | S12: 0
A13: AJO COCIDO | B13: 20 | C13: 4.4 | D13: 0.2 | E13: =(M13+N13+O13+P13+Q13+R13+S13) -> 0 | F13: 99.4 | G13: 1.1 | H13: 1.4 | I13: 38 | J13: 1000 | K13: 0 | L13: 1 | M13: 0 | N13: 0 | O13: 0 | P13: 0 | Q13: 0 | R13: 0 | S13: 0
... A218: PANCETA-TOCINO PLANCHA S/C | B218: 0 | C218: 17 | D218: 40 | E218: =(M218+N218+O218+P218+Q218+R218+S218) -> 13.76 | F218: 428 | G218: 0 | H218: 1.2 | I218: 13 | J218: 0 | K218: 2 | L218: 1780 | M218: 0.11 | N218: 0 | O218: 0.25 | P218: 8.92 | Q218: 4.48 | R218: 0 | S218: 0
A219: PAPA FRITA | B219: 17.9 | C219: 1.8 | D219: =0.1+10 -> 10.1 | E219: =(M219+N219+O219+P219+Q219+R219+S219) -> 12.6 | F219: 169.7 | G219: 0.4 | H219: 1 | I219: 10 | J219: 270 | K219: 7.04 | L219: 35 | M219: 1.38 | N219: 0.57 | O219: 0.07 | P219: 6.6 | Q219: 3.2 | R219: 0.2 | S219: 0.58
A220: PAPA MICROONDAS | B220: 17.9 | C220: 1.8 | D220: 0.1 | E220: =(M220+N220+O220+P220+Q220+R220+S220) -> 0 | F220: 79.7 | G220: 0.4 | H220: 1 | I220: 10 | J220: 270 | K220: 12.8 | L220: 24 | M220: 0 | N220: 0 | O220: 0 | P220: 0 | Q220: 0 | R220: 0 | S220: 0
A221: PAPA OTRA COCCION | B221: 17.9 | C221: 1.8 | D221: 0.1 | E221: =(M221+N221+O221+P221+Q221+R221+S221) -> 0 | F221: 79.7 | G221: 0.4 | H221: 1 | I221: 10 | J221: 270 | K221: 8.96 | L221: 17 | M221: 0 | N221: 0 | O221: 0 | P221: 0 | Q221: 0 | R221: 0 | S221: 0
A222: PASTAS | B222: 49.87 | C222: 10.3 | D222: 0.4 | E222: =(M222+N222+O222+P222+Q222+R222+S222) -> 0 | F222: 244.28 | G222: 0.5 | H222: 2.1 | I222: 26 | J222: 1600 | K222: 29.3 | L222: 12 | M222: 0 | N222: 0 | O222: 0 | P222: 0 | Q222: 0 | R222: 0 | S222: 0
A223: PEPINO (CRUDO) | B223: 2 | C223: 0.7 | D223: 0.1 | E223: =(M223+N223+O223+P223+Q223+R223+S223) -> 0 | F223: 11.7 | G223: 0.4 | H223: 0.6 | I223: 23 | J223: 160 | K223: 14 | L223: 13 | M223: 0 | N223: 0 | O223: 0 | P223: 0 | Q223: 0 | R223: 0 | S223: 0
A224: PERA CONSERVA | B224: 17.57 | C224: 0.3 | D224: 0.2 | E224: =(M224+N224+O224+P224+Q224+R224+S224) -> 0 | F224: 73.28 | G224: 1.9 | H224: 0.5 | I224: 6 | J224: 230 | K224: 1 | L224: 4 | M224: 0 | N224: 0 | O224: 0 | P224: 0 | Q224: 0 | R224: 0 | S224: 0
A225: PERA CRUDA | B225: 12.2 | C225: 0.3 | D225: 0.2 | E225: =(M225+N225+O225+P225+Q225+R225+S225) -> 0 | F225: 51.8 | G225: 3.1 | H225: 0.5 | I225: 6 | J225: 100 | K225: 7 | L225: 2 | M225: 0 | N225: 0 | O225: 0 | P225: 0 | Q225: 0 | R225: 0 | S225: 0
A226: PERA MICROONDAS | B226: 14.8 | C226: 0.3 | D226: 0.2 | E226: =(M226+N226+O226+P226+Q226+R226+S226) -> 0 | F226: 62.2 | G226: 1.9 | H226: 0.5 | I226: 6 | J226: 230 | K226: 7 | L226: 2 | M226: 0 | N226: 0 | O226: 0 | P226: 0 | Q226: 0 | R226: 0 | S226: 0
A227: PERA OTRA COCCION | B227: 14.8 | C227: 0.3 | D227: 0.2 | E227: =(M227+N227+O227+P227+Q227+R227+S227) -> 0 | F227: 62.2 | G227: 1.9 | H227: 0.5 | I227: 6 | J227: 230 | K227: 7 | L227: 2 | M227: 0 | N227: 0 | O227: 0 | P227: 0 | Q227: 0 | R227: 0 | S227: 0
A228: PESCADO GRASO FRITO C/C | B228: 0 | C228: 14.8 | D228: 25.7 | E228: =(M228+N228+O228+P228+Q228+R228+S228) -> 15.21 | F228: 290.5 | G228: 0 | H228: 0 | I228: 40 | J228: 400 | K228: 9.35 | L228: 80 | M228: 1.38 | N228: 0.57 | O228: 0.57 | P228: 8.36 | Q228: 3.55 | R228: 0.2 | S228: 0.58
A229: PESCADO GRASO FRITO S/C | B229: 0 | C229: 14.8 | D229: 25.7 | E229: =(M229+N229+O229+P229+Q229+R229+S229) -> 2.61 | F229: 290.5 | G229: 0 | H229: 0 | I229: 40 | J229: 400 | K229: 11 | L229: 80 | M229: 0 | N229: 0 | O229: 0.5 | P229: 1.76 | Q229: 0.35 | R229: 0 | S229: 0
A230: PESCADO GRASO HERVIDO | B230: 0 | C230: 14.8 | D230: 10.7 | E230: =(M230+N230+O230+P230+Q230+R230+S230) -> 2.61 | F230: 155.5 | G230: 0 | H230: 0 | I230: 40 | J230: 400 | K230: 11 | L230: 80 | M230: 0 | N230: 0 | O230: 0.5 | P230: 1.76 | Q230: 0.35 | R230: 0 | S230: 0
A231: PESCADO GRASO HORNO C/C | B231: 0 | C231: 14.8 | D231: 10.7 | E231: =(M231+N231+O231+P231+Q231+R231+S231) -> 2.61 | F231: 155.5 | G231: 0 | H231: 0 | I231: 40 | J231: 400 | K231: 9.35 | L231: 80 | M231: 0 | N231: 0 | O231: 0.5 | P231: 1.76 | Q231: 0.35 | R231: 0 | S231: 0
... A294: SALAMIN | B294: 2.6 | C294: 23.9 | D294: 36.8 | E294: =(M294+N294+O294+P294+Q294+R294+S294) -> 13.27 | F294: 437.2 | G294: 0 | H294: 1.51 | I294: 8 | J294: 3230 | K294: 2 | L294: 1860 | M294: 0.08 | N294: 0.02 | O294: 0.43 | P294: 8.13 | Q294: 4.56 | R294: 0.05 | S294: 0
A295: SALCHICHA PARRILL. FRITA C/C | C295: 14.3 | D295: 40.8 | E295: =(M295+N295+O295+P295+Q295+R295+S295) -> 11.71 | F295: 424.4 | G295: 0 | H295: 2.8 | I295: 20 | J295: 0 | K295: 4 | L295: 1150 | M295: 0.07 | N295: 0.02 | O295: 0.38 | P295: 7.18 | Q295: 4.02 | R295: 0.04 | S295: 0
A296: SALCHICHA PARRILL. FRITA S/C | B296: 0 | C296: 14.3 | D296: 40.8 | E296: =(M296+N296+O296+P296+Q296+R296+S296) -> 11.71 | F296: 424.4 | G296: 0 | H296: 2.8 | I296: 20 | J296: 0 | K296: 4 | L296: 1150 | M296: 0.07 | N296: 0.02 | O296: 0.38 | P296: 7.18 | Q296: 4.02 | R296: 0.04 | S296: 0
A297: SALCHICHA PARRILLERA HERVIDA | B297: 0 | C297: 14.3 | D297: 30.8 | E297: =(M297+N297+O297+P297+Q297+R297+S297) -> 11.71 | F297: 334.4 | G297: 0 | H297: 2.8 | I297: 20 | J297: 0 | K297: 3.4 | L297: 1150 | M297: 0.07 | N297: 0.02 | O297: 0.38 | P297: 7.18 | Q297: 4.02 | R297: 0.04 | S297: 0
A298: SALCHICHA PARRILL. HORNO C/C | B298: 0 | C298: 14.3 | D298: 30.8 | E298: =(M298+N298+O298+P298+Q298+R298+S298) -> 11.71 | F298: 334.4 | G298: 0 | H298: 2.8 | I298: 20 | J298: 0 | K298: 4 | L298: 1150 | M298: 0.07 | N298: 0.02 | O298: 0.38 | P298: 7.18 | Q298: 4.02 | R298: 0.04 | S298: 0
A299: SALCHICHA PARRILL. HORNO S/C | B299: 0 | C299: 14.3 | D299: 30.8 | E299: =(M299+N299+O299+P299+Q299+R299+S299) -> 11.71 | F299: 334.4 | G299: 0 | H299: 2.8 | I299: 20 | J299: 0 | K299: 4 | L299: 1150 | M299: 0.07 | N299: 0.02 | O299: 0.38 | P299: 7.18 | Q299: 4.02 | R299: 0.04 | S299: 0
A300: SALCHICHA PARRILL. PARRILL C/C | B300: 0 | C300: 14.3 | D300: 30.8 | E300: =(M300+N300+O300+P300+Q300+R300+S300) -> 11.77 | F300: 334.4 | G300: 0 | H300: 2.8 | I300: 20 | J300: 0 | K300: 3.2 | L300: 1150 | M300: 0.07 | N300: 0.08 | O300: 0.38 | P300: 7.18 | Q300: 4.02 | R300: 0.04 | S300: 0
A301: SALCHICHA PARRILL. PARRILL S/C | B301: 0 | C301: 14.3 | D301: 30.8 | E301: =(M301+N301+O301+P301+Q301+R301+S301) -> 11.71 | F301: 334.4 | G301: 0 | H301: 2.8 | I301: 20 | J301: 0 | K301: 4 | L301: 1150 | M301: 0.07 | N301: 0.02 | O301: 0.38 | P301: 7.18 | Q301: 4.02 | R301: 0.04 | S301: 0
A302: SALCHICHA PARRILL. PLANCHA C/C | B302: 0 | C302: 14.3 | D302: 30.8 | E302: =(M302+N302+O302+P302+Q302+R302+S302) -> 11.71 | F302: 334.4 | G302: 0 | H302: 2.8 | I302: 20 | J302: 0 | K302: 4 | L302: 1150 | M302: 0.07 | N302: 0.02 | O302: 0.38 | P302: 7.18 | Q302: 4.02 | R302: 0.04 | S302: 0
A303: SALCHICHA PARRILL. PLANCHA S/C | B303: 0 | C303: 14.3 | D303: 30.8 | E303: =(M303+N303+O303+P303+Q303+R303+S303) -> 11.71 | F303: 334.4 | G303: 0 | H303: 2.8 | I303: 20 | J303: 0 | K303: 4 | L303: 1150 | M303: 0.07 | N303: 0.02 | O303: 0.38 | P303: 7.18 | Q303: 4.02 | R303: 0.04 | S303: 0
A304: SALCHICHA PARRILL.MICROOND.C/C | B304: 0 | C304: 14.3 | D304: 30.8 | E304: =(M304+N304+O304+P304+Q304+R304+S304) -> 11.71 | F304: 334.4 | G304: 0 | H304: 2.8 | I304: 20 | J304: 0 | K304: 4 | L304: 1150 | M304: 0.07 | N304: 0.02 | O304: 0.38 | P304: 7.18 | Q304: 4.02 | R304: 0.04 | S304: 0
A305: SALCHICHA PARRILL.MICROOND.S/C | B305: 0 | C305: 14.3 | D305: 30.8 | E305: =(M305+N305+O305+P305+Q305+R305+S305) -> 11.71 | F305: 334.4 | G305: 0 | H305: 2.8 | I305: 20 | J305: 0 | K305: 4 | L305: 1150 | M305: 0.07 | N305: 0.02 | O305: 0.38 | P305: 7.18 | Q305: 4.02 | R305: 0.04 | S305: 0
A306: SALCHICHA VIENA HERVIDA | B306: 1.7 | C306: 14.5 | D306: 23.2 | E306: =(M306+N306+O306+P306+Q306+R306+S306) -> 12.12 | F306: 273.6 | G306: 0 | H306: 2.4 | I306: 13 | J306: 0 | K306: 3.4 | L306: 878 | M306: 0 | N306: 0 | O306: 0.85 | P306: 6.35 | Q306: 4.76 | R306: 0.16 | S306: 0
A307: SALCHICHA VIENA PLANCHA C/C | B307: 0 | C307: 13 | D307: 27 | E307: =(M307+N307+O307+P307+Q307+R307+S307) -> 12.12 | F307: 295 | G307: 0 | H307: 2.4 | I307: 13 | J307: 0 | K307: 4 | L307: 878 | M307: 0 | N307: 0 | O307: 0.85 | P307: 6.35 | Q307: 4.76 | R307: 0.16 | S307: 0
... A375: TAPAS DE TARTA | B375: 42 | C375: 6 | D375: 15 | E375: =(M375+N375+O375+P375+Q375+R375+S375) -> 0 | F375: 327 | G375: 3.4 | H375: 0 | I375: 9 | J375: 390 | K375: 10 | L375: 482 | M375: 0 | N375: 0 | O375: 0 | P375: 0 | Q375: 0 | R375: 0 | S375: 0
A376: MILANESAS DE CARNE FRITAS | E376: =(M376+N376+O376+P376+Q376+R376+S376) -> 0 | F376: 0
A377: MILANESAS DE CARNE AL HORNO | E377: =(M377+N377+O377+P377+Q377+R377+S377) -> 0 | F377: 0
A378: MILANESAS DE POLLO FRITAS | E378: =(M378+N378+O378+P378+Q378+R378+S378) -> 0 | F378: 0
A379: MILANESAS DE POLLO AL HORNO | E379: =(M379+N379+O379+P379+Q379+R379+S379) -> 0 | F379: 0
A380: EMPANADA DE CARNE SALADA | B380: 32.94 | C380: 17.54 | D380: 24.84 | E380: =(M380+N380+O380+P380+Q380+R380+S380) -> 11.47 | F380: 425.48 | G380: 0.68 | H380: 2.58 | I380: 29.48 | J380: 0 | L380: 8 | M380: 0 | N380: 0 | O380: 0 | P380: 11.47 | Q380: 0 | R380: 0 | S380: 0
A381: EMPANADA DE CARNE DULCE | E381: =(M381+N381+O381+P381+Q381+R381+S381) -> 0 | F381: 0 | K381: 55.28 | L381: 16
A382: EMPANADA DE JAMON Y QUESO | E382: =(M382+N382+O382+P382+Q382+R382+S382) -> 0 | F382: 0 | L382: 900
A383: EMPANADA ÁRABE | E383: =(M383+N383+O383+P383+Q383+R383+S383) -> 0 | F383: 0 | K383: 77 | L383: 182
A384: EMPANADA DE VERDURA | E384: =(M384+N384+O384+P384+Q384+R384+S384) -> 0 | F384: 0
A385: TARTA JAMÓN Y QUESO | B385: 26.2 | C385: 12.083333 | D385: 14.694444 | E385: =(M385+N385+O385+P385+Q385+R385+S385) -> 3.4 | F385: 285.383 | G385: 1.33333 | H385: 0.79444 | I385: 85.37778 | J385: 0 | K385: 110 | M385: 0 | N385: 0 | O385: 0 | P385: 3.4 | Q385: 0 | R385: 0 | S385: 0
A386: TARTA DE ZAPALLITO | E386: =(M386+N386+O386+P386+Q386+R386+S386) -> 0 | F386: 0
A387: TARTA DE VERDURA | B387: 23.555556 | C387: 5.9466667 | D387: 8.2088889 | E387: =(M387+N387+O387+P387+Q387+R387+S387) -> 0.98667 | F387: 191.889 | G387: 2.79111 | H387: 2.75111 | I387: 62.16889 | J387: 0 | L387: 640 | M387: 0 | N387: 0 | O387: 0 | P387: 0.98667 | Q387: 0 | R387: 0 | S387: 0
A388: TARTA CHOCLO | B388: 36.573333 | C388: 4.9911111 | D388: 7.5777778 | E388: =(M388+N388+O388+P388+Q388+R388+S388) -> 0.8 | F388: 234.458 | G388: 1.24444 | H388: 0.71556 | I388: 10.39111 | J388: 0 | M388: 0 | N388: 0 | O388: 0 | P388: 0.8 | Q388: 0 | R388: 0 | S388: 0
A389: TARTA ATÚN | B389: 21.12 | C389: 7.12 | D389: 7.4311111 | E389: =(M389+N389+O389+P389+Q389+R389+S389) -> 0.8 | F389: 179.84 | G389: 1.24444 | H389: 0.56 | I389: 10.83556 | J389: 0 | L389: 21 | M389: 0 | N389: 0 | O389: 0 | P389: 0.8 | Q389: 0 | R389: 0 | S389: 0
A390: PIZZA | B390: 32.31 | C390: 13.61 | D390: 14.13 | E390: =(M390+N390+O390+P390+Q390+R390+S390) -> 6.19 | F390: 310.85 | G390: 0.54 | H390: 0.79 | I390: 242.35 | J390: 0 | L390: 413 | M390: 0 | N390: 0 | O390: 0 | P390: 6.19 | Q390: 0 | R390: 0 | S390: 0
